BEGIN:VCALENDAR
VERSION:2.0
PRODID:-//eventon.com NONSGML v1.0//EN
CALSCALE:GREGORIAN
METHOD:PUBLISH
BEGIN:VEVENT
UID:69e73bac8b843
DTSTAMP:20260421T085612Z
DTSTART:20250617T090000Z
DTEND:20250617T120000Z
LOCATION:
SUMMARY:ZP 10 Mathe (NT)
DESCRIPTION:ZP 10 Mathe (NT)\nhttps://mcg-neuss.eu/events/zp-10-mathe-nt/
URL:https://mcg-neuss.eu/events/zp-10-mathe-nt/
END:VEVENT
END:VCALENDAR